BEGIN:VCALENDAR
VERSION:2.0
PRODID:TU Chemnitz
METHOD:PUBLISH
X-WR-CALNAME:Veranstaltungen der TU Chemnitz
X-WR-TIMEZONE:Europe/Berlin
BEGIN:VEVENT
CLASS:PUBLIC
DTSTART;TZID="Europe/Berlin":20050712T203000
DTEND;TZID="Europe/Berlin":20050712T235900
LOCATION:Club der Kulturen\, Kompaß-Gebäude
SUMMARY:Farewell for Graduate Students (The English Club)
DESCRIPTION:Abschiedstreffen für Magisterstudierende der Anglistik/Amerikanistik.
ORGANIZER:MAILTO:sini@hrz.tu-chemnitz.de
UID:6372@www.tu-chemnitz.de
CREATED:20050701T094700Z
DTSTAMP:20210802T195907Z
END:VEVENT
END:VCALENDAR
