BEGIN:VCALENDAR
VERSION:2.0
PRODID:TU Chemnitz
METHOD:PUBLISH
X-WR-CALNAME:Veranstaltungen der TU Chemnitz
X-WR-TIMEZONE:Europe/Berlin
BEGIN:VEVENT
CLASS:PUBLIC
DTSTART;TZID="Europe/Berlin":20050701T200000
DTEND;TZID="Europe/Berlin":20050702T023000
LOCATION:Club der Kulturen / Kompass (Thüringer Weg 3)
SUMMARY: noche de música latina / Abend der lateinamerikanischen Musik (Club der Kulturen)
DESCRIPTION:Wir werden euch ein wenig über die Geschichte des Salsa erzählen. \nDanach könnt ihr dann selbst ausprobieren\, \nwas ihr erfahren habt .. \n(Party !!).
ORGANIZER:MAILTO:uwe.mahn@mb.tu-chemnitz.de
UID:6353@www.tu-chemnitz.de
CREATED:20050629T105600Z
DTSTAMP:20210802T195906Z
END:VEVENT
END:VCALENDAR
