BEGIN:VCALENDAR
VERSION:2.0
PRODID:TU Chemnitz
METHOD:PUBLISH
X-WR-CALNAME:Veranstaltungen der TU Chemnitz
X-WR-TIMEZONE:Europe/Berlin
BEGIN:VEVENT
CLASS:PUBLIC
DTSTART;TZID="Europe/Berlin":20050704T104500
DTEND;TZID="Europe/Berlin":20050704T114500
LOCATION:Reichenhainer Str. 90\, Chemnitz (Zentr. Hörsaal- und Seminargebäude)
SUMMARY:Übersicht über Mikrowellenfernerkundung (Fakultät für Elektrotechnik und Informationstechnik\, Professur Hochfrequenztechnik und Photonik)
DESCRIPTION:Prof. em. Dr.-Ing. H. Brand
ORGANIZER:MAILTO:tobias.otto@gmx.de
UID:6352@www.tu-chemnitz.de
CREATED:20050628T172400Z
DTSTAMP:20210802T195907Z
END:VEVENT
END:VCALENDAR
