BEGIN:VCALENDAR
VERSION:2.0
PRODID:TU Chemnitz
METHOD:PUBLISH
X-WR-CALNAME:Veranstaltungen der TU Chemnitz
X-WR-TIMEZONE:Europe/Berlin
BEGIN:VEVENT
CLASS:PUBLIC
DTSTART;TZID="Europe/Berlin":20050701T100000
DTEND;TZID="Europe/Berlin":20050701T113000
LOCATION:Reichenhainer Str. 70\, Chemnitz (Weinhold-Bau)
SUMMARY:Institutskolloquium des Elektrotechnischen Instituts (Fakultät für Elektrotechnik und Informationstechnik\, Elektrotechnisches Institut)
DESCRIPTION:Dr. Iwasaki und Dr. Kawafuku werden über die Themen beobachterbasierte Regelung von 3D-Erdbebensimulatoren und Störgrößenunterdrückung in der Regelung von Festplatten referieren.\nDr.-Ing. M. Iwasaki\, Dr.-Ing. M. Kawafuku\, NIT Nagoya Japan
ORGANIZER:MAILTO:jozi@hrz.tu-chemnitz.de
UID:6348@www.tu-chemnitz.de
CREATED:20050627T103600Z
DTSTAMP:20210802T195911Z
END:VEVENT
END:VCALENDAR
