BEGIN:VCALENDAR
VERSION:2.0
PRODID:TU Chemnitz
METHOD:PUBLISH
X-WR-CALNAME:Veranstaltungen der TU Chemnitz
X-WR-TIMEZONE:Europe/Berlin
BEGIN:VEVENT
CLASS:PUBLIC
DTSTART;TZID="Europe/Berlin":20050630T153000
DTEND;TZID="Europe/Berlin":20050630T170000
LOCATION:Reichenhainer Str. 90\, Chemnitz (Zentr. Hörsaal- und Seminargebäude)
SUMMARY:Vertriebsmethoden für Finanzprodukte (Fakultät für Wirtschaftswissenschaften\, Finanzwirtschaft und Bankbetriebslehre)
DESCRIPTION:- Hat die Bankfiliale eine Zukunft?\n- Was leisten Strukurvertriebe?\n- Kundenansprache und Wahrnehmungsanomalien\nDr. Helge Lach\, Mitglied des Vorstandes Deutsche Vermögensberatung DVAG
ORGANIZER:MAILTO:uta.martin@wirtschaft.tu-chemnitz.de
UID:6343@www.tu-chemnitz.de
CREATED:20050624T131100Z
DTSTAMP:20210802T195925Z
END:VEVENT
END:VCALENDAR
