BEGIN:VCALENDAR
VERSION:2.0
PRODID:TU Chemnitz
METHOD:PUBLISH
X-WR-CALNAME:Veranstaltungen der TU Chemnitz
X-WR-TIMEZONE:Europe/Berlin
BEGIN:VEVENT
CLASS:PUBLIC
DTSTART;TZID="Europe/Berlin":20050629T113000
DTEND;TZID="Europe/Berlin":20050629T130000
LOCATION:Reichenhainer Str. 70\, Chemnitz (Weinhold-Bau)
SUMMARY:Aktuelle Aspekte deutscher Sicherheitspolitik (Philosophische Fakultät\, FB Politikwissenschaft\, Professur Internationale Politik\, Frau Prof. Dr. Neuss)
DESCRIPTION:Heiko Wergin\, Jugendoffizier der Bundeswehr\, Verteidigungsbezirkskommando 75\, Chemnitz
ORGANIZER:MAILTO:matz@hrz.tu-chemnitz.de
UID:6339@www.tu-chemnitz.de
CREATED:20050622T110100Z
DTSTAMP:20210802T195919Z
END:VEVENT
END:VCALENDAR
