BEGIN:VCALENDAR
VERSION:2.0
PRODID:TU Chemnitz
METHOD:PUBLISH
X-WR-CALNAME:Veranstaltungen der TU Chemnitz
X-WR-TIMEZONE:Europe/Berlin
BEGIN:VEVENT
CLASS:PUBLIC
DTSTART;TZID="Europe/Berlin":20050707T183000
DTEND;TZID="Europe/Berlin":20050707T230000
LOCATION:Vettersstr. 52/54\, Chemnitz (Studentenwohnheim)
SUMMARY:Sommerfest (windKanal und Patenprogramm)
DESCRIPTION:Windkanal und Patenprogramm feiern den Sommer. Dazu gibts Biergarten\, Pianomusik. \nUnd das Patenprogramm grillt für Euch kostenlos.\nBei Regen findet das Ganze ab 20 Uhr im windKanal statt.
ORGANIZER:MAILTO:welz@hrz.tu-chemnitz.de
UID:6333@www.tu-chemnitz.de
CREATED:20050620T111100Z
DTSTAMP:20210802T195907Z
END:VEVENT
END:VCALENDAR
