BEGIN:VCALENDAR
VERSION:2.0
PRODID:TU Chemnitz
METHOD:PUBLISH
X-WR-CALNAME:Veranstaltungen der TU Chemnitz
X-WR-TIMEZONE:Europe/Berlin
BEGIN:VEVENT
CLASS:PUBLIC
DTSTART;TZID="Europe/Berlin":20050617T180000
DTEND;TZID="Europe/Berlin":20050617T200000
LOCATION:Neue Sächsische Galerie \, Kulturkaufhaus DAStietz\, Moritzstraße 20\, 09111 Chemnitz
SUMMARY:Prof. Dr. Heinrich Fink : "Flucht und Vertreibung" (Rosa-Luxemburg-Stiftung Sachsen e.V.)
DESCRIPTION:Prof. Fink Evangelischer Theologe\, ehemaliger Rektor der \nHumboldt-Universität zu Berlin. \nDezember 1989 Leiter des Runden Tisches  der Universität\, \nGründungsmitglied der Gesellschaft DDR-Israel \nVorsitzender des Bundes der Antifaschisten\nProf. Dr. Heinrich Fink - Theologe (Berlin)\nEintritt frei / RLS Chemnitz 0371/5382718
ORGANIZER:MAILTO:tki@hrz.tu-chemnitz.de
UID:6329@www.tu-chemnitz.de
CREATED:20050617T145000Z
DTSTAMP:20210802T195919Z
END:VEVENT
END:VCALENDAR
