BEGIN:VCALENDAR
VERSION:2.0
PRODID:TU Chemnitz
METHOD:PUBLISH
X-WR-CALNAME:Veranstaltungen der TU Chemnitz
X-WR-TIMEZONE:Europe/Berlin
BEGIN:VEVENT
CLASS:PUBLIC
DTSTART;TZID="Europe/Berlin":20050619T160000
DTEND;TZID="Europe/Berlin":20050619T230000
LOCATION:Reichenhainer Str. 55\, Chemnitz (Mensa)
SUMMARY:TaC: EM Finale Frauen danach Confederations Cup (TaC)
DESCRIPTION:Fußball am Sonntag im TaC mit dem \nFinale der Frauen-Fußball-EM : Deutschland-Schweden\nund dem Confederations Cup:\nGriechenland-Japan und \nBrasilien-Mexiko
ORGANIZER:MAILTO:made@hrz.tu-chemnitz.de
UID:6328@www.tu-chemnitz.de
CREATED:20050616T160700Z
DTSTAMP:20210802T195927Z
END:VEVENT
END:VCALENDAR
