BEGIN:VCALENDAR
VERSION:2.0
PRODID:TU Chemnitz
METHOD:PUBLISH
X-WR-CALNAME:Veranstaltungen der TU Chemnitz
X-WR-TIMEZONE:Europe/Berlin
BEGIN:VEVENT
CLASS:PUBLIC
DTSTART;TZID="Europe/Berlin":20050617T110000
DTEND;TZID="Europe/Berlin":20050617T140000
LOCATION:Reichenhainer Str. 55\, Chemnitz (Mensa)
SUMMARY:TaC: Beginn Kartenvorverkauf Campusparty & Mensafest (TaC & StuWe)
DESCRIPTION:Der Kartenvorverkauf leicht verspätet für \ndie Campusparty beginnt !!!\n3\,50 EUR Studenten\n5\,50 EUR Nichtstudenten
ORGANIZER:MAILTO:made@hrz.tu-chemnitz.de
UID:6327@www.tu-chemnitz.de
CREATED:20050616T160300Z
DTSTAMP:20210802T195920Z
END:VEVENT
END:VCALENDAR
