BEGIN:VCALENDAR
VERSION:2.0
PRODID:TU Chemnitz
METHOD:PUBLISH
X-WR-CALNAME:Veranstaltungen der TU Chemnitz
X-WR-TIMEZONE:Europe/Berlin
BEGIN:VEVENT
CLASS:PUBLIC
DTSTART;TZID="Europe/Berlin":20051122T190000
DTEND;TZID="Europe/Berlin":20051122T203000
LOCATION:Reichenhainer Str. 90\, Chemnitz (Zentr. Hörsaal- und Seminargebäude)
SUMMARY:"Finanzpolitik ist Zukunftspolitik - Spart sich der Freistaat zu Tode?!" (RCDS Sachsen)
DESCRIPTION:Dr. Horst Metz\, Sächsischer Staatsminister der Finanzen\ninfo@rcds-sachsen.de
ORGANIZER:MAILTO:michaelkunze1982@yahoo.de
UID:6301@www.tu-chemnitz.de
CREATED:20050609T104300Z
DTSTAMP:20210802T195651Z
END:VEVENT
END:VCALENDAR
