BEGIN:VCALENDAR
VERSION:2.0
PRODID:TU Chemnitz
METHOD:PUBLISH
X-WR-CALNAME:Veranstaltungen der TU Chemnitz
X-WR-TIMEZONE:Europe/Berlin
BEGIN:VEVENT
CLASS:PUBLIC
DTSTART;TZID="Europe/Berlin":20050722T133000
DTEND;TZID="Europe/Berlin":20050722T150000
LOCATION:Str. der Nationen 62\, Chemnitz (Böttcher-Bau)
SUMMARY:Schadenstolerante Auslegung metallischer Rumpfstrukturen für Großraumflugzeuge -- Stand der Technik und Einfluss neuer Materialien und Technologien (TU Chemnitz\, Institut für Mechanik\, Professur Experimentelle Mechanik)
DESCRIPTION: Herr Dr.-Ing. Jens Telgkamp\, Airbus Deutschland\, Hamburg\nVoranmeldung nicht erforderlich !
ORGANIZER:MAILTO:frank.pelz@mb.tu-chemnitz.de
UID:6297@www.tu-chemnitz.de
CREATED:20050608T131200Z
DTSTAMP:20210802T195910Z
END:VEVENT
END:VCALENDAR
