BEGIN:VCALENDAR
VERSION:2.0
PRODID:TU Chemnitz
METHOD:PUBLISH
X-WR-CALNAME:Veranstaltungen der TU Chemnitz
X-WR-TIMEZONE:Europe/Berlin
BEGIN:VEVENT
CLASS:PUBLIC
DTSTART;TZID="Europe/Berlin":20050615T171500
DTEND;TZID="Europe/Berlin":20050615T184500
LOCATION:Reichenhainer Str. 90\, Chemnitz (Zentr. Hörsaal- und Seminargebäude)
SUMMARY:"Wirtschaftliche\, soziale und umweltbezogene Regelsysteme für die Weltwirtschaft" (Philosophische Fakultät\, FB Politikwissenschaft\, Professur Internationale Politik\, Frau Prof. Dr. Neuss)
DESCRIPTION:Prof. Dr. Ronald Clapham\, Universität Siegen
ORGANIZER:MAILTO:matz@hrz.tu-chemnitz.de
UID:6294@www.tu-chemnitz.de
CREATED:20050608T111500Z
DTSTAMP:20210802T195914Z
END:VEVENT
END:VCALENDAR
