BEGIN:VCALENDAR
VERSION:2.0
PRODID:TU Chemnitz
METHOD:PUBLISH
X-WR-CALNAME:Veranstaltungen der TU Chemnitz
X-WR-TIMEZONE:Europe/Berlin
BEGIN:VEVENT
CLASS:PUBLIC
DTSTART;TZID="Europe/Berlin":20050628T173000
DTEND;TZID="Europe/Berlin":20050628T190000
LOCATION:Str. der Nationen 62\, Chemnitz (Böttcher-Bau)
SUMMARY:135. UNIX-Stammtisch in Sachsen (Universitätsrechenzentrum)
DESCRIPTION:Thema: Quake II meets Java (die Portierung der bekannten 3D-Engine nach Java)\nCarsten Weiße\, derzeit BPS Bildungsportal Sachsen GmbH\nM. Ehrig\, Tel. 531 1525
ORGANIZER:MAILTO:imu@hrz.tu-chemnitz.de
UID:6277@www.tu-chemnitz.de
CREATED:20050606T100600Z
DTSTAMP:20210802T195925Z
END:VEVENT
END:VCALENDAR
