BEGIN:VCALENDAR
VERSION:2.0
PRODID:TU Chemnitz
METHOD:PUBLISH
X-WR-CALNAME:Veranstaltungen der TU Chemnitz
X-WR-TIMEZONE:Europe/Berlin
BEGIN:VEVENT
CLASS:PUBLIC
DTSTART;TZID="Europe/Berlin":20050531T171500
DTEND;TZID="Europe/Berlin":20050531T184500
LOCATION:Wilhelm-Raabe-Str. 43\, Chemnitz
SUMMARY:Institutskolloquium Psychologie (Philosophische Fakultät\, Differentielle Psychologie und Diagnostik)
DESCRIPTION:"A Dynamic Self-regulatory Processing Model of the Self: Narcissm as a Prototype"\nProf. Dr. Carolyn Morf\, Universität Bern\nSekretariat 531 6365
ORGANIZER:MAILTO:solweig.morawietz@phil.tu-chemnitz.de
UID:6258@www.tu-chemnitz.de
CREATED:20050531T145000Z
DTSTAMP:20210802T195941Z
END:VEVENT
END:VCALENDAR
