BEGIN:VCALENDAR
VERSION:2.0
PRODID:TU Chemnitz
METHOD:PUBLISH
X-WR-CALNAME:Veranstaltungen der TU Chemnitz
X-WR-TIMEZONE:Europe/Berlin
BEGIN:VEVENT
CLASS:PUBLIC
DTSTART;TZID="Europe/Berlin":20050601T190000
DTEND;TZID="Europe/Berlin":20050601T200000
LOCATION:Jugendkirche Zschopauer Str. (direkt an der Zenti)
SUMMARY:Tu nicht so erwachsen (Evangelische StudentenGemeinde (ESG) Chemnitz)
DESCRIPTION:Gottesdienst am Weltkindertag.\nAnschließend gemütliches Beisammensein bei Tee und Keksen.
ORGANIZER:MAILTO:Peter.Fey@s2003.tu-chemnitz.de
UID:6256@www.tu-chemnitz.de
CREATED:20050531T142200Z
DTSTAMP:20210802T195917Z
END:VEVENT
END:VCALENDAR
