BEGIN:VCALENDAR
VERSION:2.0
PRODID:TU Chemnitz
METHOD:PUBLISH
X-WR-CALNAME:Veranstaltungen der TU Chemnitz
X-WR-TIMEZONE:Europe/Berlin
BEGIN:VEVENT
CLASS:PUBLIC
DTSTART;TZID="Europe/Berlin":20050618T190000
DTEND;TZID="Europe/Berlin":20050619T030000
LOCATION:Thüringer Weg 3 (Kompass)
SUMMARY:Afrika in Chemnitz 2005: African Evening - Soirée Africaine (Club der Kulturen)
DESCRIPTION:Großes Abschlussfest mit Live-Musik: Sky Dove Inspirational Band\, Disko\, afrikanisches Essen\, bunter Markt uvm.\nEintritt: erm. 2 Euro\, normal 4 Euro.
ORGANIZER:MAILTO:vasas@hrz.tu-chemnitz.de
UID:6251@www.tu-chemnitz.de
CREATED:20050530T192100Z
DTSTAMP:20210802T195928Z
END:VEVENT
END:VCALENDAR
