BEGIN:VCALENDAR
VERSION:2.0
PRODID:TU Chemnitz
METHOD:PUBLISH
X-WR-CALNAME:Veranstaltungen der TU Chemnitz
X-WR-TIMEZONE:Europe/Berlin
BEGIN:VEVENT
CLASS:PUBLIC
DTSTART;TZID="Europe/Berlin":20050610T190000
DTEND;TZID="Europe/Berlin":20050610T223000
LOCATION:Thüringer Weg 3 (Kompass)
SUMMARY:Afrika in Chemnitz 2005: Im Fokus: Der Konflikt im Osten der DR Kongo (Club der Kulturen)
DESCRIPTION:Von den Ursprüngen zur Beschlagnahmung der Demokratie. Eine Analyse.\nEintritt frei\nJean Mfuansoni Simba\, Chemnitz
ORGANIZER:MAILTO:vasas@hrz.tu-chemnitz.de
UID:6247@www.tu-chemnitz.de
CREATED:20050530T190800Z
DTSTAMP:20210802T195923Z
END:VEVENT
END:VCALENDAR
