BEGIN:VCALENDAR
VERSION:2.0
PRODID:TU Chemnitz
METHOD:PUBLISH
X-WR-CALNAME:Veranstaltungen der TU Chemnitz
X-WR-TIMEZONE:Europe/Berlin
BEGIN:VEVENT
CLASS:PUBLIC
DTSTART;TZID="Europe/Berlin":20060113T180000
DTEND;TZID="Europe/Berlin":20060114T030000
LOCATION:Reichenhainer Str. 55\, Chemnitz (Mensa)
SUMMARY:2. Chemnitzer Spielenacht (TU Chemnitz\, Fachschaften)
DESCRIPTION:Ihr könnt euch an diesem Abend nahezu alle bekannten und auch weniger bekannten Spiele ausleihen. Egal ob Strategie oder Unterhaltung\, egal ob Karten- oder Brettspiel\, hier findet ihr alles\, was ihr schon immer einmal ausprobieren wolltet.\nFachschaften der TUC\ninfo@chemnitzer.spielenacht.de
ORGANIZER:MAILTO:geni@hrz.tu-chemnitz.de
UID:6243@www.tu-chemnitz.de
CREATED:20050529T164300Z
DTSTAMP:20210802T195532Z
END:VEVENT
END:VCALENDAR
