BEGIN:VCALENDAR
VERSION:2.0
PRODID:TU Chemnitz
METHOD:PUBLISH
X-WR-CALNAME:Veranstaltungen der TU Chemnitz
X-WR-TIMEZONE:Europe/Berlin
BEGIN:VEVENT
CLASS:PUBLIC
DTSTART;TZID="Europe/Berlin":20050606T200000
DTEND;TZID="Europe/Berlin":20050606T220000
LOCATION:Reichenhainer Str. 70\, Chemnitz (Rühlmann-Bau)
SUMMARY:Global/Chemnitz way of life - Globalisierung - Risiko oder Chance? (Hochschultage 2005)
DESCRIPTION:Prof.Dr. h.c Lachmann\, Ph.D. / Nürnberg
ORGANIZER:MAILTO:daniel.wache@gmx.de
UID:6234@www.tu-chemnitz.de
CREATED:20050528T105400Z
DTSTAMP:20210802T195914Z
END:VEVENT
END:VCALENDAR
