BEGIN:VCALENDAR
VERSION:2.0
PRODID:TU Chemnitz
METHOD:PUBLISH
X-WR-CALNAME:Veranstaltungen der TU Chemnitz
X-WR-TIMEZONE:Europe/Berlin
BEGIN:VEVENT
CLASS:PUBLIC
DTSTART;TZID="Europe/Berlin":20050527T200000
DTEND;TZID="Europe/Berlin":20050527T235900
LOCATION:Kompass\, Thüringer Weg 3
SUMMARY:Kultureintopf in Bildern (TU Chemnitz\, Club der Kulturen)
DESCRIPTION:vom 18. bis 22. April hat im ungarischen Bataszek eine interkulturelle Kochbegegnung "Kultureitopf" stattgefunden. Wir waren dabei! Heute Abend berichten wir darüber.\nRussisch Club\, Club der Kulturen\nwww.tu-chemnitz.de/stud/club/kulturen/
ORGANIZER:MAILTO:valentina.nikiforowa@s1998.tu-chemnitz.de
UID:6233@www.tu-chemnitz.de
CREATED:20050527T153800Z
DTSTAMP:20210802T195943Z
END:VEVENT
END:VCALENDAR
