BEGIN:VCALENDAR
VERSION:2.0
PRODID:TU Chemnitz
METHOD:PUBLISH
X-WR-CALNAME:Veranstaltungen der TU Chemnitz
X-WR-TIMEZONE:Europe/Berlin
BEGIN:VEVENT
CLASS:PUBLIC
DTSTART;TZID="Europe/Berlin":19990927T090000
DTEND;TZID="Europe/Berlin":19990930T180000
LOCATION:Neue Messe München\, Halle B 1
SUMMARY:Messe MATERIALICA München (27.-30.09.1999) (Fakultät für Maschinenbau und Verfahrenstechnik)
DESCRIPTION:Exponat der Professur Verbundwerkstoffe:\nModifizierte Aktivlote für das Löten von Metall und Keramik\nDietrich Taubert\, Wissenschaftliche Dienste\, Telefon: 0371/531-1327\, technologietransfer@tu-chemnitz.de
ORGANIZER:MAILTO:rkit@hrz.tu-chemnitz.de
UID:623@www.tu-chemnitz.de
CREATED:19990817T140700Z
DTSTAMP:20210802T203334Z
END:VEVENT
END:VCALENDAR
