BEGIN:VCALENDAR
VERSION:2.0
PRODID:TU Chemnitz
METHOD:PUBLISH
X-WR-CALNAME:Veranstaltungen der TU Chemnitz
X-WR-TIMEZONE:Europe/Berlin
BEGIN:VEVENT
CLASS:PUBLIC
DTSTART;TZID="Europe/Berlin":20050526T210000
DTEND;TZID="Europe/Berlin":20050526T210000
LOCATION:Vettersstr. 64/66\, Chemnitz (Studentenwohnheim)
SUMMARY:***BIT-BOUTIQUE***DIE EINZIG WAHRE TEQUILA-PARTY***
DESCRIPTION:Vertraut dem Original Leute!!!\nTequila nur 1 Euro!!!\nFür die nötige Musik sorgt DJ Martin!!!\nAlso dann bis Donnerstag\, wir rechnen fest mit euch!!!
ORGANIZER:MAILTO:zwaggen@gmx.de
UID:6228@www.tu-chemnitz.de
CREATED:20050524T155300Z
DTSTAMP:20210802T195947Z
END:VEVENT
END:VCALENDAR
