BEGIN:VCALENDAR
VERSION:2.0
PRODID:TU Chemnitz
METHOD:PUBLISH
X-WR-CALNAME:Veranstaltungen der TU Chemnitz
X-WR-TIMEZONE:Europe/Berlin
BEGIN:VEVENT
CLASS:PUBLIC
DTSTART;TZID="Europe/Berlin":20050524T200000
DTEND;TZID="Europe/Berlin":20050524T230000
LOCATION:Club der Kulturen\, Kompaß-Gebäude
SUMMARY:US\, UK\, TU: University Systems Compared (Club der Kulturen)
DESCRIPTION:Stellt Eure Fragen und wir vergleichen die verschiedenen Systeme in einer Gesprächsrunde. \nUnsere Gäste heute: Prof. Josef Schmied und Dr. Martin Weiser\, Jake Heida und David Johnson.\nThe English Club/Club der Kulturen
ORGANIZER:MAILTO:sini@hrz.tu-chemnitz.de
UID:6225@www.tu-chemnitz.de
CREATED:20050524T115300Z
DTSTAMP:20210802T195948Z
END:VEVENT
END:VCALENDAR
