BEGIN:VCALENDAR
VERSION:2.0
PRODID:TU Chemnitz
METHOD:PUBLISH
X-WR-CALNAME:Veranstaltungen der TU Chemnitz
X-WR-TIMEZONE:Europe/Berlin
BEGIN:VEVENT
CLASS:PUBLIC
DTSTART;TZID="Europe/Berlin":20050601T190000
DTEND;TZID="Europe/Berlin":20050601T190000
LOCATION:Wilhelm-Raabe-Str. 43\, Chemnitz
SUMMARY:Reihe Lichtspiele - heute: Das Gespenst der Freiheit (Philosophische Fakultät\, Institut für Psychologie)
DESCRIPTION:Nach einer kurzen Einführung in Film und Regie zeigen wir heute "Das Gespenst der Freiheit" von Jean-Luis Bunuel.\nDer Eintritt ist frei.\nLichtspiel Team
ORGANIZER:MAILTO:droe@hrz.tu-chemnitz.de
UID:6223@www.tu-chemnitz.de
CREATED:20050524T091300Z
DTSTAMP:20210802T195917Z
END:VEVENT
END:VCALENDAR
