BEGIN:VCALENDAR
VERSION:2.0
PRODID:TU Chemnitz
METHOD:PUBLISH
X-WR-CALNAME:Veranstaltungen der TU Chemnitz
X-WR-TIMEZONE:Europe/Berlin
BEGIN:VEVENT
CLASS:PUBLIC
DTSTART;TZID="Europe/Berlin":20050524T153000
DTEND;TZID="Europe/Berlin":20050524T163000
LOCATION:Reichenhainer Str. 70\, Chemnitz (Weinhold-Bau)
SUMMARY:Kolloquium des Sonderforschungsbereiches SFB 379 "Mikromechanische Sensor- und Aktorarrays": NANOANALYSE INNOVATIVER MATERIALIEN UND BAUELEMENTE (Fakultät für Naturwissenschaften\, Zentrum für Mikrotechnologien (ZfM))
DESCRIPTION:Anhand ausgewählter Beispiele wird dargelegt\, wie moderne Techniken der Rastersonden- und Elektronen-Mikroskopie sowie der optischen Spektroskopie in der Lage sind\, strukturelle\, chemische\, elektronische und magnetische Eigenschaften zu studieren.\nProf. Dr. rer. nat. Gerd Bacher\, Universität Duisburg-Essen\, Fak. für Ingenieurwissenschaften\, LS Werkstoffe der Elektrotechnik\nDr. Seckel\, 0371-531 3261
ORGANIZER:MAILTO:wolfgang.seckel@zfm.tu-chemnitz.de
UID:6221@www.tu-chemnitz.de
CREATED:20050523T114600Z
DTSTAMP:20210802T195945Z
END:VEVENT
END:VCALENDAR
