BEGIN:VCALENDAR
VERSION:2.0
PRODID:TU Chemnitz
METHOD:PUBLISH
X-WR-CALNAME:Veranstaltungen der TU Chemnitz
X-WR-TIMEZONE:Europe/Berlin
BEGIN:VEVENT
CLASS:PUBLIC
DTSTART;TZID="Europe/Berlin":20050524T190000
DTEND;TZID="Europe/Berlin":20050524T190000
LOCATION:ESG-Haus\, Straße der Nationen 72
SUMMARY:Was sind "Exerzitien" (Evangelische StudentenGemeinde (ESG) Chemnitz)
DESCRIPTION:Gemeinsamer Abend von KSG und ESG.\nDie KSG bringt Pater Clemens Maaß\, einen Jesuiten aus Dresden mit\, der uns über Vorder- und Hintergründe von Exerzitien berichten wird.\nPater Clemens Maaß
ORGANIZER:MAILTO:Peter.Fey@s2003.tu-chemnitz.de
UID:6218@www.tu-chemnitz.de
CREATED:20050523T090300Z
DTSTAMP:20210802T195950Z
END:VEVENT
END:VCALENDAR
