BEGIN:VCALENDAR
VERSION:2.0
PRODID:TU Chemnitz
METHOD:PUBLISH
X-WR-CALNAME:Veranstaltungen der TU Chemnitz
X-WR-TIMEZONE:Europe/Berlin
BEGIN:VEVENT
CLASS:PUBLIC
DTSTART;TZID="Europe/Berlin":20050519T160000
DTEND;TZID="Europe/Berlin":20050519T173000
LOCATION:Reichenhainer Str. 70\, Chemnitz (Rühlmann-Bau)
SUMMARY:Chemnitzer Mathematisches Colloquium (Fakultät für Mathematik)
DESCRIPTION:Thema: On Mathematical Problems of Quantum Mechanics\nProf. A. Komech\, Moscow State University\, Mechanical-Mathematical Department
ORGANIZER:MAILTO:matt@mathematik.tu-chemnitz.de
UID:6199@www.tu-chemnitz.de
CREATED:20050513T151300Z
DTSTAMP:20210802T195945Z
END:VEVENT
END:VCALENDAR
