BEGIN:VCALENDAR
VERSION:2.0
PRODID:TU Chemnitz
METHOD:PUBLISH
X-WR-CALNAME:Veranstaltungen der TU Chemnitz
X-WR-TIMEZONE:Europe/Berlin
BEGIN:VEVENT
CLASS:PUBLIC
DTSTART;TZID="Europe/Berlin":20050621T153000
DTEND;TZID="Europe/Berlin":20050621T170000
LOCATION:Str. der Nationen 62\, Chemnitz (Böttcher-Bau)
SUMMARY:Niederdimensionale Metalle und Cluster - Beiträge zur Chemie des Bismuts (TU Chemnitz\, Institut für Chemie\, Professur Anorganische Chemie)
DESCRIPTION:Prof. Dr. Michael Ruck\, Institut für Anorganische Chemie\, TU Dresden\nProf. Dr. Heinrich Lang\, Tel. 531-1673\, heinrich.lang@chemie.tu-chemnitz.de
ORGANIZER:MAILTO:jutta.ruder@chemie.tu-chemnitz.de
UID:6198@www.tu-chemnitz.de
CREATED:20050513T135900Z
DTSTAMP:20210802T195925Z
END:VEVENT
END:VCALENDAR
