BEGIN:VCALENDAR
VERSION:2.0
PRODID:TU Chemnitz
METHOD:PUBLISH
X-WR-CALNAME:Veranstaltungen der TU Chemnitz
X-WR-TIMEZONE:Europe/Berlin
BEGIN:VEVENT
CLASS:PUBLIC
DTSTART;TZID="Europe/Berlin":20050602T160000
DTEND;TZID="Europe/Berlin":20050602T173000
LOCATION:Reichenhainer Str. 70\, Chemnitz (Rühlmann-Bau)
SUMMARY:Chemnitzer Mathematisches Colloquium (Fakultät für Mathematik)
DESCRIPTION:Thema: Die 3n 1 Funktion auf 0-1-Folgen\nProf. G. Wirsching\, Katholische Universität Eichstätt
ORGANIZER:MAILTO:matt@mathematik.tu-chemnitz.de
UID:6189@www.tu-chemnitz.de
CREATED:20050513T075100Z
DTSTAMP:20210802T195918Z
END:VEVENT
END:VCALENDAR
