BEGIN:VCALENDAR
VERSION:2.0
PRODID:TU Chemnitz
METHOD:PUBLISH
X-WR-CALNAME:Veranstaltungen der TU Chemnitz
X-WR-TIMEZONE:Europe/Berlin
BEGIN:VEVENT
CLASS:PUBLIC
DTSTART;TZID="Europe/Berlin":20050605T160000
DTEND;TZID="Europe/Berlin":20050609T130000
LOCATION:Schloss Hotel Pillnitz
SUMMARY:Interstellar Reaction: from Gas Phase to Solids (Fakultät für Naturwissenschaften\, DFG-Forschergruppe)
DESCRIPTION:zur Eröffnung: Prof. Harold Kroto\, Florida State University\, USA\nProf. D. Gerlich\, Tel. 5313104\, fgla@physik.tu-chemnitz.de
ORGANIZER:MAILTO:a.kurasch@physik.tu-chemnitz.de
UID:6187@www.tu-chemnitz.de
CREATED:20050512T144800Z
DTSTAMP:20210802T195916Z
END:VEVENT
END:VCALENDAR
