BEGIN:VCALENDAR
VERSION:2.0
PRODID:TU Chemnitz
METHOD:PUBLISH
X-WR-CALNAME:Veranstaltungen der TU Chemnitz
X-WR-TIMEZONE:Europe/Berlin
BEGIN:VEVENT
CLASS:PUBLIC
DTSTART;TZID="Europe/Berlin":20050511T180000
DTEND;TZID="Europe/Berlin":20050511T200000
LOCATION:Soziokulturelles Zentrum QUER BEET\, Rosenplatz 4\, 09126 Chemnitz (gegenüber ZV-Bunker)
SUMMARY:"Die Linken in Polen. Auflösung oder Neuanfang ?" (Rosa-Luxemburg-Stiftung Sachsen e.V.)
DESCRIPTION:In Polens stehen 2005 drei politische Entscheidungen an. Die Parlamentswahlen\, Präsidentschaftswahlen und eine Volksabstimmung zur EU-Verfassung stattfinden.Wie ist angesichts dessen die Situation der Linken in Polen und wie sind deren Perspektiven?\nDr. Holger Politt\, Leiter des Büros der Rosa-Luxemburg-Stiftung Warschau\nBibliothek der RLS Chemnitz\, Leiter: Thiemo Kirmse (TU Chemnitz) Telefon: 5382718 / Eintritt zur Veranstaltung ist frei
ORGANIZER:MAILTO:tki@hrz.tu-chemnitz.de
UID:6182@www.tu-chemnitz.de
CREATED:20050510T193600Z
DTSTAMP:20210802T195948Z
END:VEVENT
END:VCALENDAR
