BEGIN:VCALENDAR
VERSION:2.0
PRODID:TU Chemnitz
METHOD:PUBLISH
X-WR-CALNAME:Veranstaltungen der TU Chemnitz
X-WR-TIMEZONE:Europe/Berlin
BEGIN:VEVENT
CLASS:PUBLIC
DTSTART;TZID="Europe/Berlin":20050517T200000
DTEND;TZID="Europe/Berlin":20050517T213000
LOCATION:Hohe Str. 1\, Gemeindezentrum der Propstei
SUMMARY:Rechtsextremismus und Demokratie (Kath. Studentengemeinde)
DESCRIPTION:Herr Patt (MdL) wird uns das Zusammenspiel der beiden Gegensätze Rechtsextremismus und Demokratie verdeutlichen.\nPeter W. Patt\, CDU
ORGANIZER:MAILTO:rts@hrz.tu-chemnitz.de
UID:6171@www.tu-chemnitz.de
CREATED:20050509T121800Z
DTSTAMP:20210802T195950Z
END:VEVENT
END:VCALENDAR
