BEGIN:VCALENDAR
VERSION:2.0
PRODID:TU Chemnitz
METHOD:PUBLISH
X-WR-CALNAME:Veranstaltungen der TU Chemnitz
X-WR-TIMEZONE:Europe/Berlin
BEGIN:VEVENT
CLASS:PUBLIC
DTSTART;TZID="Europe/Berlin":19990916T093000
DTEND;TZID="Europe/Berlin":19990916T180000
LOCATION:Uni-Teil 3: Reichenhainer Str. 70\, Chemnitz (Zentr. Hörsaal- und Seminargebäude)
SUMMARY:5. Bahnlaufseminar (Fakultät für Maschinenbau und Verfahrenstechnik\, Institut für Print- und Medientechnik)
DESCRIPTION:Thema: Bahnlauf mit konstanter Bahnspannung kontra \nBahnlauf mit konstanter Bahndehnung\nDr. Jürgen Gottlebe\, Tel. 0371/531-2174
ORGANIZER:MAILTO:mstein@hrz.tu-chemnitz.de
UID:617@www.tu-chemnitz.de
CREATED:19990812T071200Z
DTSTAMP:20210802T203335Z
END:VEVENT
END:VCALENDAR
