BEGIN:VCALENDAR
VERSION:2.0
PRODID:TU Chemnitz
METHOD:PUBLISH
X-WR-CALNAME:Veranstaltungen der TU Chemnitz
X-WR-TIMEZONE:Europe/Berlin
BEGIN:VEVENT
CLASS:PUBLIC
DTSTART;TZID="Europe/Berlin":20050512T190000
DTEND;TZID="Europe/Berlin":20050512T235900
LOCATION:Reichenhainer Str. 55\, Chemnitz (Mensa)
SUMMARY:TaC: Frühjahrsmeisterschaft im Tischtennis Doppel (TaC)
DESCRIPTION:Jou...das war ein wirklich luster Abend im letzten Semester...max 24 Paarungen können antreten...egal welcher Zusammensetzung...Tolle Preise wie immer !!!
ORGANIZER:MAILTO:made@hrz.tu-chemnitz.de
UID:6168@www.tu-chemnitz.de
CREATED:20050509T114800Z
DTSTAMP:20210802T195940Z
END:VEVENT
END:VCALENDAR
