BEGIN:VCALENDAR
VERSION:2.0
PRODID:TU Chemnitz
METHOD:PUBLISH
X-WR-CALNAME:Veranstaltungen der TU Chemnitz
X-WR-TIMEZONE:Europe/Berlin
BEGIN:VEVENT
CLASS:PUBLIC
DTSTART;TZID="Europe/Berlin":20050516T210000
DTEND;TZID="Europe/Berlin":20050516T235900
LOCATION:Reichenhainer Str. 37/Keller
SUMMARY:UNiCC meets PEB (II): deelay (PEB-Studentenkeller)
DESCRIPTION:deelay\, die Sendung für alternative elektronische Musik\n\nbeschallt Euch mit leichten nu-jazzigen Klängen.\n\nDazu gibts wieder leckere\, günstige Getränke! :-)
ORGANIZER:MAILTO:mahub@hrz.tu-chemnitz.de
UID:6158@www.tu-chemnitz.de
CREATED:20050508T012400Z
DTSTAMP:20210802T195948Z
END:VEVENT
END:VCALENDAR
