BEGIN:VCALENDAR
VERSION:2.0
PRODID:TU Chemnitz
METHOD:PUBLISH
X-WR-CALNAME:Veranstaltungen der TU Chemnitz
X-WR-TIMEZONE:Europe/Berlin
BEGIN:VEVENT
CLASS:PUBLIC
DTSTART;TZID="Europe/Berlin":20050620T210000
DTEND;TZID="Europe/Berlin":20050620T235900
LOCATION:Reichenhainer Str. 37/Keller
SUMMARY:Annes 60er/70erKneipe im PEB  (PEB-Studentenkeller)
DESCRIPTION:DJ Anne an den Reglern - \n60er/70er Musik für den Start in die Woche...\n\nDazu natürlich wie gewohnt günstige leckere Getränke an der Bar!
ORGANIZER:MAILTO:mahub@hrz.tu-chemnitz.de
UID:6152@www.tu-chemnitz.de
CREATED:20050508T010500Z
DTSTAMP:20210802T195926Z
END:VEVENT
END:VCALENDAR
