BEGIN:VCALENDAR
VERSION:2.0
PRODID:TU Chemnitz
METHOD:PUBLISH
X-WR-CALNAME:Veranstaltungen der TU Chemnitz
X-WR-TIMEZONE:Europe/Berlin
BEGIN:VEVENT
CLASS:PUBLIC
DTSTART;TZID="Europe/Berlin":20050607T210000
DTEND;TZID="Europe/Berlin":20050608T030000
LOCATION:Vettersstr. 70/72\, Chemnitz (Studentenwohnheim)
SUMMARY:> > > Afterburner - A Tribute To Last Tuesday < < < (FPM-Club)
DESCRIPTION:\nHappy Hour bis 23.00 Uhr:\nCocktail-Doppeldecker - Heineken nur 1\,50 Euro\n\nTequila Sunrise-Doppeldecker die ganze Nacht\n\nMusic: All Style mixed by Fouque\n\nEintritt Frei\n\n
ORGANIZER:MAILTO:hoga@hrz.tu-chemnitz.de
UID:6145@www.tu-chemnitz.de
CREATED:20050506T223300Z
DTSTAMP:20210802T195917Z
END:VEVENT
END:VCALENDAR
