BEGIN:VCALENDAR
VERSION:2.0
PRODID:TU Chemnitz
METHOD:PUBLISH
X-WR-CALNAME:Veranstaltungen der TU Chemnitz
X-WR-TIMEZONE:Europe/Berlin
BEGIN:VEVENT
CLASS:PUBLIC
DTSTART;TZID="Europe/Berlin":20050604T210000
DTEND;TZID="Europe/Berlin":20050605T030000
LOCATION:Vettersstr. 70/72\, Chemnitz (Studentenwohnheim)
SUMMARY:> > > Mosh Club < < < (FPM-Club)
DESCRIPTION:\nDer Chemnitzer Heavy Metal Club.\n\n
ORGANIZER:MAILTO:hoga@hrz.tu-chemnitz.de
UID:6144@www.tu-chemnitz.de
CREATED:20050506T223200Z
DTSTAMP:20210802T195927Z
END:VEVENT
END:VCALENDAR
