BEGIN:VCALENDAR
VERSION:2.0
PRODID:TU Chemnitz
METHOD:PUBLISH
X-WR-CALNAME:Veranstaltungen der TU Chemnitz
X-WR-TIMEZONE:Europe/Berlin
BEGIN:VEVENT
CLASS:PUBLIC
DTSTART;TZID="Europe/Berlin":20050510T104500
DTEND;TZID="Europe/Berlin":20050510T121500
LOCATION:Wilhelm-Raabe-Str. 43\, Chemnitz
SUMMARY:Aufgaben und Anforderungen beim Autofahren. (Philosophische Fakultät\, Institut für Psychologie)
DESCRIPTION:Wolfgang Fastenmeier\, München\nProf. Krems\, 6421\, krems@phil.tu-chemnitz.de
ORGANIZER:MAILTO:christine.uhlmann@phil.tu-chemnitz.de
UID:6137@www.tu-chemnitz.de
CREATED:20050506T130100Z
DTSTAMP:20210802T195947Z
END:VEVENT
END:VCALENDAR
