BEGIN:VCALENDAR
VERSION:2.0
PRODID:TU Chemnitz
METHOD:PUBLISH
X-WR-CALNAME:Veranstaltungen der TU Chemnitz
X-WR-TIMEZONE:Europe/Berlin
BEGIN:VEVENT
CLASS:PUBLIC
DTSTART;TZID="Europe/Berlin":19991007T110000
DTEND;TZID="Europe/Berlin":19991007T140000
LOCATION:Uni-Teil 1: Str. der Nationen 62\, Chemnitz (Böttcher-Bau)
SUMMARY:Semestereröffnungsveranstaltung für ausländische Studenten (TU Chemnitz\, Tutoren- und Betreuungsprogramm des AAA)
DESCRIPTION:Semestereröffnungsveranstaltung für ausländ. Studenten mit Kulturprogramm\,\nVorstellung des AAA\,wichtigen Informationen und Tipps\,\nEssen und Trinken\, anschließend Stadtrundfahrt und Rathausführung\n\nSandra Rech\, Steffi Herold\, Eva Auerbach (AAA)\nhiwi.auslandsamt@verwaltung.tu-chemnitz.de oder eva.auerbach@verwaltung.tu-chemnitz.de
ORGANIZER:MAILTO:Sandra.Rech@phil.tu-chemnitz.de
UID:610@www.tu-chemnitz.de
CREATED:19990803T121400Z
DTSTAMP:20210802T203313Z
END:VEVENT
END:VCALENDAR
