BEGIN:VCALENDAR
VERSION:2.0
PRODID:TU Chemnitz
METHOD:PUBLISH
X-WR-CALNAME:Veranstaltungen der TU Chemnitz
X-WR-TIMEZONE:Europe/Berlin
BEGIN:VEVENT
CLASS:PUBLIC
DTSTART;TZID="Europe/Berlin":20050531T173000
DTEND;TZID="Europe/Berlin":20050531T173000
LOCATION:Hotel Sächsischer Hof\, Brühl 26\, 09111 Chemnitz
SUMMARY:75. Mikroelektronik-Stammtisch "Bleifreies Löten" (Fakultät für Elektrotechnik und Informationstechnik\, AMEC Angewandte Mikroelektronik Chemnitz e. V.)
DESCRIPTION:Bleifreies Löten - Geltungsbereich und Risiken bei der Umsetzung von RoHS und WEEE\nDipl.-Ing. Arndt Flemming\, Siemens AG\, Chemnitz
ORGANIZER:MAILTO:silvia.eppendorfer@hrz.tu-chemnitz.de
UID:6098@www.tu-chemnitz.de
CREATED:20050426T083500Z
DTSTAMP:20210802T195939Z
END:VEVENT
END:VCALENDAR
