BEGIN:VCALENDAR
VERSION:2.0
PRODID:TU Chemnitz
METHOD:PUBLISH
X-WR-CALNAME:Veranstaltungen der TU Chemnitz
X-WR-TIMEZONE:Europe/Berlin
BEGIN:VEVENT
CLASS:PUBLIC
DTSTART;TZID="Europe/Berlin":20050519T210000
DTEND;TZID="Europe/Berlin":20050519T210000
LOCATION:Vettersstr. 52/54\, Chemnitz (Studentenwohnheim)
SUMMARY:Bierdiplom (windKanal)
DESCRIPTION:Auch dieses Semester könnt Ihr wieder Euer Diplom bei uns ablegen. Bedingung: 10 Bier an einem Abend :-)
ORGANIZER:MAILTO:welz@hrz.tu-chemnitz.de
UID:6096@www.tu-chemnitz.de
CREATED:20050425T225400Z
DTSTAMP:20210802T195940Z
END:VEVENT
END:VCALENDAR
