BEGIN:VCALENDAR
VERSION:2.0
PRODID:TU Chemnitz
METHOD:PUBLISH
X-WR-CALNAME:Veranstaltungen der TU Chemnitz
X-WR-TIMEZONE:Europe/Berlin
BEGIN:VEVENT
CLASS:PUBLIC
DTSTART;TZID="Europe/Berlin":20050614T171500
DTEND;TZID="Europe/Berlin":20050614T184500
LOCATION:Reichenhainer Str. 70\, Chemnitz (Rühlmann-Bau)
SUMMARY:Forschungskolloquium: Entwicklung interkulturelle Kompetenz in der Wirtschaft (Philosophische Fakultät\, IMIK)
DESCRIPTION:Gespräch mit Karla Eubel Kapser  (Interkulturelle Beraterin\, Trainerin und Coach; von 1990 bis 2002 Leiterin der Interkulturellen Personalentwicklung der Robert Bosch GmbH\, Stuttgart)\nKarla Eubel-Kasper
ORGANIZER:MAILTO:blf@hrz.tu-chemnitz.de
UID:6088@www.tu-chemnitz.de
CREATED:20050425T153000Z
DTSTAMP:20210802T195929Z
END:VEVENT
END:VCALENDAR
