BEGIN:VCALENDAR
VERSION:2.0
PRODID:TU Chemnitz
METHOD:PUBLISH
X-WR-CALNAME:Veranstaltungen der TU Chemnitz
X-WR-TIMEZONE:Europe/Berlin
BEGIN:VEVENT
CLASS:PUBLIC
DTSTART;TZID="Europe/Berlin":20050607T190000
DTEND;TZID="Europe/Berlin":20050607T203000
LOCATION:Reichenhainer Str. 70\, Chemnitz (Rühlmann-Bau)
SUMMARY:Forschungskolloquium: Vernetzung als Aspekt interkulturellen Handelns? Eine Analyse der Netzwerke deutscher Mitglieder des Europäischen Parlaments (Philosophische Fakultät\, IMIK)
DESCRIPTION:Constanze Adolf (Neubiberg)
ORGANIZER:MAILTO:blf@hrz.tu-chemnitz.de
UID:6087@www.tu-chemnitz.de
CREATED:20050425T152400Z
DTSTAMP:20210802T195927Z
END:VEVENT
END:VCALENDAR
