BEGIN:VCALENDAR
VERSION:2.0
PRODID:TU Chemnitz
METHOD:PUBLISH
X-WR-CALNAME:Veranstaltungen der TU Chemnitz
X-WR-TIMEZONE:Europe/Berlin
BEGIN:VEVENT
CLASS:PUBLIC
DTSTART;TZID="Europe/Berlin":20050524T190000
DTEND;TZID="Europe/Berlin":20050524T203000
LOCATION:Reichenhainer Str. 70\, Chemnitz (Rühlmann-Bau)
SUMMARY:Forschungskolloquium: Interkulturelles Lernen durch kooperative Reflexionsprozesse (Philosophische Fakultät\, IMIK)
DESCRIPTION:Verena Stengel (München)
ORGANIZER:MAILTO:blf@hrz.tu-chemnitz.de
UID:6086@www.tu-chemnitz.de
CREATED:20050425T151700Z
DTSTAMP:20210802T195936Z
END:VEVENT
END:VCALENDAR
