BEGIN:VCALENDAR
VERSION:2.0
PRODID:TU Chemnitz
METHOD:PUBLISH
X-WR-CALNAME:Veranstaltungen der TU Chemnitz
X-WR-TIMEZONE:Europe/Berlin
BEGIN:VEVENT
CLASS:PUBLIC
DTSTART;TZID="Europe/Berlin":20050426T210000
DTEND;TZID="Europe/Berlin":20050426T230000
LOCATION:Kino\, Reichenhainer Str. 35/37
SUMMARY:[Kino * "mittendrin"] Haus aus Sand und Nebel (Filmclub "mittendrin")
DESCRIPTION:Iranian soul meets foggy California.\nDie Oscar-Preisträger Ben Kingsley ("Ghandi") und Jennifer Connelly ("A Beautiful Mind") bieten in ihren Duellen grandioses Schauspielerkino\, das Sir Ben seine vierte Oscar-Nominierung einbrachte.
ORGANIZER:MAILTO:schneid@hrz.tu-chemnitz.de
UID:6076@www.tu-chemnitz.de
CREATED:20050422T131600Z
DTSTAMP:20210802T200018Z
END:VEVENT
END:VCALENDAR
