BEGIN:VCALENDAR
VERSION:2.0
PRODID:TU Chemnitz
METHOD:PUBLISH
X-WR-CALNAME:Veranstaltungen der TU Chemnitz
X-WR-TIMEZONE:Europe/Berlin
BEGIN:VEVENT
CLASS:PUBLIC
DTSTART;TZID="Europe/Berlin":20050608T100000
DTEND;TZID="Europe/Berlin":20050608T153000
LOCATION:Reichenhainer Str. 90\, Chemnitz (Zentr. Hörsaal- und Seminargebäude)
SUMMARY:Elektronisches Publizieren an der TU Chemnitz - 10 Jahre MONARCH (Universitätsbibliothek\, Universitätsrechenzentrum)
DESCRIPTION:Ingrid Thümer\, UB; Christoph Ziegler\, URZ; Dagmar Hesse\, UB; Ute Blumtritt\, UB\nUte Blumtritt\, Tel.: 0371/531 1290\, Email: ute.blumtritt@bibliothek.tu-chemnitz.de
ORGANIZER:MAILTO:dagmar.hesse@bibliothek.tu-chemnitz.de
UID:6071@www.tu-chemnitz.de
CREATED:20050420T103400Z
DTSTAMP:20210802T195915Z
END:VEVENT
END:VCALENDAR
