BEGIN:VCALENDAR
VERSION:2.0
PRODID:TU Chemnitz
METHOD:PUBLISH
X-WR-CALNAME:Veranstaltungen der TU Chemnitz
X-WR-TIMEZONE:Europe/Berlin
BEGIN:VEVENT
CLASS:PUBLIC
DTSTART;TZID="Europe/Berlin":20050424T170000
DTEND;TZID="Europe/Berlin":20050424T193000
LOCATION:Reichenhainer Str. 55\, Chemnitz (Mensa)
SUMMARY:Bundesligakonferenz
DESCRIPTION:Wer erreicht die Championsleague\, wer steigt ab??\nLeverkusen - Bremen und Nürnberg - Gladbach in Konferenz
ORGANIZER:MAILTO:mamat@hrz.tu-chemnitz.de
UID:6064@www.tu-chemnitz.de
CREATED:20050418T181000Z
DTSTAMP:20210802T200018Z
END:VEVENT
END:VCALENDAR
