BEGIN:VCALENDAR
VERSION:2.0
PRODID:TU Chemnitz
METHOD:PUBLISH
X-WR-CALNAME:Veranstaltungen der TU Chemnitz
X-WR-TIMEZONE:Europe/Berlin
BEGIN:VEVENT
CLASS:PUBLIC
DTSTART;TZID="Europe/Berlin":20050423T220000
DTEND;TZID="Europe/Berlin":20050424T060000
LOCATION:Chemnitz
SUMMARY:Chemnitzer Club Connection - Chemnitz Rockt!
DESCRIPTION:11 Chemnitzer InClubs feiern!\nDer Eintrittspreis beträgt einmalig 6\,00 EUR. Dafür gibt es einen Shuttle-Service zwischen den Clubs und jede Menge Spaß und Party. \nKarten gibt es an den Abendkassen oder unter www.3c-clubbing.de/tickets\nwww.3c-clubbing.de
ORGANIZER:MAILTO:marcel.patzig@s2002.tu-chemnitz.de
UID:6056@www.tu-chemnitz.de
CREATED:20050418T153800Z
DTSTAMP:20210802T200017Z
END:VEVENT
END:VCALENDAR
